BEGIN:VCALENDAR
VERSION:2.0
PRODID:-//hacksw/handcal//NONSGML v1.0//EN
BEGIN:VEVENT
DTSTART:20240201T183000Z
DTEND:20240201T210000Z
LOCATION:Maison des Centraliens \n8, Rue Jean Goujon \n75008 PARIS
ORGANIZER;CN=Clément Thébault - CSA Oenologie:MAILTO:thebault.cl@gmail.com
SUMMARY:Château Climens - Accord mets vins
DESCRIPTION:Rendez-vous le jeudi 1er février à 19h30 à la Maison des Centraliens !\nNous avons la chance de recevoir Jérôme Moitry, Alumni de l'école (Centrale P1985), et Directeur du prestigieux Château Climens ...
URL:https://association.centralesupelec-alumni.com/fr/group/csa-oenologie/597/calendar/chateau-climens-accord-mets-vins/2024/02/01/7695
BEGIN:VALARM
TRIGGER:-P0DT1H0M0S
ACTION:DISPLAY
END:VALARM
END:VEVENT
END:VCALENDAR