BEGIN:VCALENDAR
VERSION:2.0
PRODID:-//hacksw/handcal//NONSGML v1.0//EN
BEGIN:VEVENT
DTSTART:20240123T173000Z
DTEND:20240123T200000Z
LOCATION:
ORGANIZER;CN=Patrick Coppin:MAILTO:patrick.coppin@gmail.com
SUMMARY:APERO WHATS4U  "DIVERSITE & INCLUSION"
DESCRIPTION:\n- Apéro Whats4u mardi 23 janvier 18h30 -\nDIVERSITE & INCLUSION\nWhats4u réunit Ralph Buchter (Président, Séquences Clés Productions), Tatiana Campos Rocha (Responsable RSE Corporate, Louis Vuitton)...
URL:https://association.centralesupelec-alumni.com/fr/event/apero-whats4u-diversite-inclusion/2024/01/23/7694
BEGIN:VALARM
TRIGGER:-P0DT1H0M0S
ACTION:DISPLAY
END:VALARM
END:VEVENT
END:VCALENDAR