BEGIN:VCALENDAR
VERSION:2.0
PRODID:-//hacksw/handcal//NONSGML v1.0//EN
BEGIN:VEVENT
DTSTART:20240127T090000Z
DTEND:20240127T150000Z
LOCATION:Les Arcs sur Argens
ORGANIZER;CN=Alexandre Francois - Var:MAILTO:alexandre.francois@wanadoo.fr
SUMMARY:AG & Visite des Arcs sur Argens
DESCRIPTION: La prochaine sortie du Groupe du Var de CentraleSupelec Alumni aura  lieu Samedi 27 janvier aux Arcs (Les Arcs sur Argens).Au programme : 10 h : Visite du quartier du Parage, du 12ème siècle qui est ...
URL:https://association.centralesupelec-alumni.com/fr/group/var/283/calendar/ag-visite-des-arcs-sur-argens/2024/01/27/7686
BEGIN:VALARM
TRIGGER:-P0DT1H0M0S
ACTION:DISPLAY
END:VALARM
END:VEVENT
END:VCALENDAR