BEGIN:VCALENDAR
VERSION:2.0
PRODID:-//hacksw/handcal//NONSGML v1.0//EN
BEGIN:VEVENT
DTSTART:20240115T180000Z
DTEND:20240115T200000Z
LOCATION:Hotel des Arts et Metiers \n9, Avenue d'Iéna \n75116 PARIS
ORGANIZER;CN=Christian Ledoux - Automobile (CSA):MAILTO:christian.ledoux64@outlook.fr
SUMMARY:La transformation de l'industrie automobile. Décarbonation, Innovation, Compétitivité. Conférence de Marc Mortureux, DG de la PFA Plateforme automobile.
DESCRIPTION:Marc Mortureux, DG de la PFA Plateforme automobilelien d'inscription : https://www.arts-et-metiers.asso.fr/events/131575 ou https://www.arts-et-metiers.asso.fr/networks/events/131575En ce début...
URL:https://association.centralesupelec-alumni.com/fr/group/automobile-csa/317/calendar/la-transformation-de-l-industrie-automobile-decarbonation-innovation-competitivite-conference-de-marc-mortureux-dg-de-la-pfa-plateforme-automobile/2024/01/15/7685
BEGIN:VALARM
TRIGGER:-P0DT1H0M0S
ACTION:DISPLAY
END:VALARM
END:VEVENT
END:VCALENDAR