BEGIN:VCALENDAR
VERSION:2.0
PRODID:-//hacksw/handcal//NONSGML v1.0//EN
BEGIN:VEVENT
DTSTART:20240118T083000Z
DTEND:20240118T153000Z
LOCATION:Café " La confidente " \n75020 PARIS
ORGANIZER;CN=Jacqueline Pasdeloup - CSA Ile de France:MAILTO:jacqueline@asso-supelec.org
SUMMARY:Randonnée : Tour de Paris, 1° étape
DESCRIPTION:\nRendez-vous : 9 h 30 au café « La Confidente », en face de la station de métro Pelleport.\nFin de la randonnée aux alentours de 16 h 30, station Blanche.\nDistance : environ 16 Kms (plusieurs...
URL:https://association.centralesupelec-alumni.com/fr/group/csa-ile-de-france/587/calendar/randonnee-tour-de-paris-1-etape/2024/01/18/7683
BEGIN:VALARM
TRIGGER:-P0DT1H0M0S
ACTION:DISPLAY
END:VALARM
END:VEVENT
END:VCALENDAR