BEGIN:VCALENDAR
VERSION:2.0
PRODID:-//hacksw/handcal//NONSGML v1.0//EN
BEGIN:VEVENT
DTSTART:20240119T110000Z
DTEND:20240119T130000Z
LOCATION:Restaurant Toïa \n7bis Quai de la Joliette \n13002 MARSEILLE
ORGANIZER;CN=Philippe Cabrit - Provence (CSA):MAILTO:philippe.cabrit@centralesupelec-alumni.com
SUMMARY:On passe à table :  "Présent et avenir du consulting"
DESCRIPTION:Vendredi 19 janvier à Marseille\n On passe à table :\n "Présent et avenir du consulting"\n avec Caroline Lébrard (ECL 04), associée chez Deloitte ­Premier déjeuner de l'année au restaurant Toïa, quai ...
URL:https://association.centralesupelec-alumni.com/fr/group/provence-csa/347/calendar/on-passe-a-table-present-et-avenir-du-consulting/2024/01/19/7675
BEGIN:VALARM
TRIGGER:-P0DT1H0M0S
ACTION:DISPLAY
END:VALARM
END:VEVENT
END:VCALENDAR