BEGIN:VCALENDAR
VERSION:2.0
PRODID:-//hacksw/handcal//NONSGML v1.0//EN
BEGIN:VEVENT
DTSTART:20240118T073000Z
DTEND:20240118T090000Z
LOCATION:
ORGANIZER;CN=Bernard Depouilly - Management de Transition (CSA):MAILTO:bdepouilly@hotmail.com
SUMMARY:Webinaire Grant Alexander : Le  Management de Transition et moi
DESCRIPTION:Grant Alexander organise ce webinaire le 18/01/2024 de 8h30 à 10h à l'intention de tous ceux qui pratiquent le management de transition et souhaitent se perfectionner dans la pratique de ce...
URL:https://association.centralesupelec-alumni.com/fr/group/management-de-transition-csa/467/calendar/webinaire-grant-alexander-le-management-de-transition-et-moi/2024/01/18/7672
BEGIN:VALARM
TRIGGER:-P0DT1H0M0S
ACTION:DISPLAY
END:VALARM
END:VEVENT
END:VCALENDAR