BEGIN:VCALENDAR
VERSION:2.0
PRODID:-//hacksw/handcal//NONSGML v1.0//EN
BEGIN:VEVENT
DTSTART:20240111T173000Z
DTEND:20240111T200000Z
LOCATION:Chez Joran La Cidrothèque \n3, Rue Jacques Jansen \n1030 SCHAERBEEK
ORGANIZER;CN=Frédéric Misheletti - Belgique (CSA):MAILTO:frederic.misheletti@gmail.com
SUMMARY:Vœux de l'UFE Belgique - Invitation Galette des Rois
DESCRIPTION:Chers Camarades, \nJe vous transmets cette invitation de l'UFE Belgique qui vient de renouveler sa gouvernance. Meilleurs vœux pour 2024!\nFrédéric Misheletti (ECM95, S96)Président du groupe Belgique,...
URL:https://association.centralesupelec-alumni.com/fr/group/belgique-csa/55/calendar/voeux-de-l-ufe-belgique-invitation-galette-des-rois/2024/01/11/7671
BEGIN:VALARM
TRIGGER:-P0DT1H0M0S
ACTION:DISPLAY
END:VALARM
END:VEVENT
END:VCALENDAR