BEGIN:VCALENDAR
VERSION:2.0
PRODID:-//hacksw/handcal//NONSGML v1.0//EN
BEGIN:VEVENT
DTSTART:20240117T173000Z
DTEND:20240117T203000Z
LOCATION:Association des Alumni HEC \n9, Avenue Franklin Delano Roosevelt \n75008 PARIS
ORGANIZER;CN=Jean-Christophe STRICH - Repreneurs (CSA):MAILTO:jc.strich@free.fr
SUMMARY:Table Ronde HEC : reprendre une startup, pourquoi pas ?
DESCRIPTION:Chers repreneurs, nous avons le plaisir de vous convier le 17 janvier prochain à 18.30à la table ronde mensuelle HEC qui abordera le thème de la reprise des start-up Cette table ronde sera l’occasion ...
URL:https://association.centralesupelec-alumni.com/fr/group/repreneurs-csa/331/calendar/table-ronde-hec-reprendre-une-startup-pourquoi-pas/2024/01/17/7668
BEGIN:VALARM
TRIGGER:-P0DT1H0M0S
ACTION:DISPLAY
END:VALARM
END:VEVENT
END:VCALENDAR