BEGIN:VCALENDAR
VERSION:2.0
PRODID:-//hacksw/handcal//NONSGML v1.0//EN
BEGIN:VEVENT
DTSTART:20240109T170000Z
DTEND:20240109T190000Z
LOCATION:A définir \n75008 PARIS
ORGANIZER;CN=Jean-Christophe STRICH - Repreneurs (CSA):MAILTO:jc.strich@free.fr
SUMMARY:Reprise d'entreprise : séances de travaux pratiques XMP
DESCRIPTION:XMP Entrepreneur vous propose, en complément des sessions de formation, 3 séances de travaux pratiques*\n sur le thème de la reprise d'entreprise.\nCes sessions de travaux pratiques sont animées...
URL:https://association.centralesupelec-alumni.com/fr/group/repreneurs-csa/331/calendar/reprise-d-entreprise-seances-de-travaux-pratiques-xmp/2024/01/09/7667
BEGIN:VALARM
TRIGGER:-P0DT1H0M0S
ACTION:DISPLAY
END:VALARM
END:VEVENT
END:VCALENDAR