BEGIN:VCALENDAR
VERSION:2.0
PRODID:-//hacksw/handcal//NONSGML v1.0//EN
BEGIN:VEVENT
DTSTART:20240128T180000Z
DTEND:20240128T193000Z
LOCATION:Philharmonie de Paris \n221, Avenue Jean Jaurès \n75019 PARIS
ORGANIZER;CN=Jacqueline Pasdeloup - CSA Ile de France:MAILTO:jacqueline@asso-supelec.org
SUMMARY:Opéra " Les Soldats " de Bernd Alois Zimmermann à la Philharmonie de Paris
DESCRIPTION:Crédit photo : Gil Lefauconnier \nLégende : Concert donné avec le dispositif inclusif Relax. \nDescription : Philharmonie de Paris, concert Brenton Marsalis, relax, 2023\nOpéra de Bernd Alois...
URL:https://association.centralesupelec-alumni.com/fr/group/csa-ile-de-france/587/calendar/opera-les-soldats-de-bernd-alois-zimmermann-a-la-philharmonie-de-paris/2024/01/28/7666
BEGIN:VALARM
TRIGGER:-P0DT1H0M0S
ACTION:DISPLAY
END:VALARM
END:VEVENT
END:VCALENDAR