BEGIN:VCALENDAR
VERSION:2.0
PRODID:-//hacksw/handcal//NONSGML v1.0//EN
BEGIN:VEVENT
DTSTART:20240125T183000Z
DTEND:20240125T210000Z
LOCATION:IESF \n7, Rue Lamennais \n75008 PARIS
ORGANIZER;CN=Régis Langlois - CSA Ile de France:MAILTO:regis.langlois.1975@asso-supelec.org
SUMMARY:Soirée voeux 2024 CACCS Île de France  - Galettes des Rois
DESCRIPTION:Chère Camarade, Cher Camarade, Le Groupe Régional CSA Île de France t'invite à participer à cet événement proposé par  la CACCS Île de France particulièrement destiné aux élèves et aux plus jeunes...
URL:https://association.centralesupelec-alumni.com/fr/group/csa-ile-de-france/587/calendar/soiree-voeux-2024-caccs-ile-de-france-galettes-des-rois/2024/01/25/7661
BEGIN:VALARM
TRIGGER:-P0DT1H0M0S
ACTION:DISPLAY
END:VALARM
END:VEVENT
END:VCALENDAR