BEGIN:VCALENDAR
VERSION:2.0
PRODID:-//hacksw/handcal//NONSGML v1.0//EN
BEGIN:VEVENT
DTSTART:20240129T170000Z
DTEND:20240129T203000Z
LOCATION:Association HEC Alumni \n9, Avenue Franklin Delano Roosevelt \n75008 PARIS
ORGANIZER;CN=Jean-Christophe STRICH - Repreneurs (CSA):MAILTO:jc.strich@free.fr
SUMMARY:Soirée cocktail « Les pépites de G2E » - CentraleSupelec Repreneurs
DESCRIPTION:\nLe Club Repreneurs CentraleSupelec est heureux de vous inviter à laSoirée cocktail "Les Pépites de G2E"aux Salons de l’Association HEC Alumni\n9, avenue Franklin Roosevelt à Paris 75008L’association...
URL:https://association.centralesupelec-alumni.com/fr/group/repreneurs-csa/331/calendar/soiree-cocktail-les-pepites-de-g2e-centralesupelec-repreneurs/2024/01/29/7660
BEGIN:VALARM
TRIGGER:-P0DT1H0M0S
ACTION:DISPLAY
END:VALARM
END:VEVENT
END:VCALENDAR