BEGIN:VCALENDAR
VERSION:2.0
PRODID:-//hacksw/handcal//NONSGML v1.0//EN
BEGIN:VEVENT
DTSTART:20240118T173000Z
DTEND:20240118T203000Z
LOCATION:Brasserie La Joconde \n68, Cours Vitton \n69006 LYON
ORGANIZER;CN=Géraldine Dupasquier - Lyon (CSA):MAILTO:geraldine.dupasquier@centraliens.net
SUMMARY:L’invitation à notre Galette Afterwork des Rois et Reines
DESCRIPTION:Chère et cher camarade,Pour bien commencer l'année, nous t'invitons à un premier Afterworkle Jeudi 18 janvier 2023 de 18h30 à 21h30 à La Brasserie "La Joconde"    68 cours Vitton 69006 LYON (Métro A...
URL:https://association.centralesupelec-alumni.com/fr/group/lyon-csa/299/calendar/l-invitation-a-notre-galette-afterwork-des-rois-et-reines/2024/01/18/7658
BEGIN:VALARM
TRIGGER:-P0DT1H0M0S
ACTION:DISPLAY
END:VALARM
END:VEVENT
END:VCALENDAR