BEGIN:VCALENDAR
VERSION:2.0
PRODID:-//hacksw/handcal//NONSGML v1.0//EN
BEGIN:VEVENT
DTSTART:20240125T180000Z
DTEND:20240125T220000Z
LOCATION:Manzanillo Libre \n42, Avenue Georges Clemenceau \n34000 MONTPELLIER
ORGANIZER;CN=Dominique Launay - Occitanie-Méditerranée (CSA):MAILTO:dominique.launay@centraliens.net
SUMMARY:CSA-OM vœux 2024
DESCRIPTION:Pour bien débuter 2024, nous vous proposons de se retrouver dans une ambiance tropicale le 25 janvier au Mansanillo Libre à Montpellier!Cette année les vœux du président et du bureau se dérouleront...
URL:https://association.centralesupelec-alumni.com/fr/group/occitanie-me-diterranee-csa/305/calendar/csa-om-voeux-2024/2024/01/25/7656
BEGIN:VALARM
TRIGGER:-P0DT1H0M0S
ACTION:DISPLAY
END:VALARM
END:VEVENT
END:VCALENDAR