BEGIN:VCALENDAR
VERSION:2.0
PRODID:-//hacksw/handcal//NONSGML v1.0//EN
BEGIN:VEVENT
DTSTART:20240201T180000Z
DTEND:20240201T200000Z
LOCATION:Maison des Centraliens \n8, Rue Jean Goujon \n75008 PARIS
ORGANIZER;CN=Ariane Galy - Transport et Mobilité (CSA):MAILTO:agaly@systra.com
SUMMARY:Comment décarboner la mobilité en France et dans le monde ?
DESCRIPTION:Le bureau du groupe CSA vous propose une nouvelle conférence pour démarrer l'année 2024:Cette conférence est proposée en présentiel uniquement. Après la conférence un apéritif sera proposé dans la...
URL:https://association.centralesupelec-alumni.com/fr/group/transport-et-mobilite-csa/337/calendar/comment-decarboner-la-mobilite-en-france-et-dans-le-monde/2024/02/01/7654
BEGIN:VALARM
TRIGGER:-P0DT1H0M0S
ACTION:DISPLAY
END:VALARM
END:VEVENT
END:VCALENDAR