BEGIN:VCALENDAR
VERSION:2.0
PRODID:-//hacksw/handcal//NONSGML v1.0//EN
BEGIN:VEVENT
DTSTART:20240111T180000Z
DTEND:20240111T220000Z
LOCATION:Cave à Vins Le Coq Gourmand \n39, Rue Fort Notre Dame \n13001 MARSEILLE
ORGANIZER;CN=Philippe Cabrit - Provence (CSA):MAILTO:philippe.cabrit@centralesupelec-alumni.com
SUMMARY:Soirée d'accueil Centraliens et Supélec sur le thème de l'IA !
DESCRIPTION:Jeudi 11 janvier\n Soirée d'accueil Centraliens et Supélec sur le thème de l'IA !­Le Club des Moins de 10 et l'Intergroupe des Centraliens et Supélec en Provence ont le plaisir de t'inviter à la...
URL:https://association.centralesupelec-alumni.com/fr/group/provence-csa/347/calendar/soiree-d-accueil-centraliens-et-supelec-sur-le-theme-de-l-ia/2024/01/11/7652
BEGIN:VALARM
TRIGGER:-P0DT1H0M0S
ACTION:DISPLAY
END:VALARM
END:VEVENT
END:VCALENDAR