BEGIN:VCALENDAR
VERSION:2.0
PRODID:-//hacksw/handcal//NONSGML v1.0//EN
BEGIN:VEVENT
DTSTART:20240201T120000Z
DTEND:20240201T130000Z
LOCATION:
ORGANIZER;CN=Patrick Coppin:MAILTO:patrick.coppin@gmail.com
SUMMARY:Les 3 secrets de la Réuniologie
DESCRIPTION:« Les 3 secrets de la Réuniologie » pour faire de chacune de vos réunions un moment à la fois productif, engageant et apprenant.\nAnimée par Louis VAREILLE, réuniologue, président fondateur de l’Ecole...
URL:https://association.centralesupelec-alumni.com/fr/event/les-3-secrets-de-la-reuniologie/2024/02/01/7648
BEGIN:VALARM
TRIGGER:-P0DT1H0M0S
ACTION:DISPLAY
END:VALARM
END:VEVENT
END:VCALENDAR