BEGIN:VCALENDAR
VERSION:2.0
PRODID:-//hacksw/handcal//NONSGML v1.0//EN
BEGIN:VEVENT
DTSTART:20240130T173000Z
DTEND:20240130T183000Z
LOCATION:
ORGANIZER;CN=CSA Carrières:MAILTO:carrieres@centraliens.net
SUMMARY:Manager en fortes turbulences :  une opportunité de... (re)prendre sa vie en main ?  => Reporté au 19/01/24 à 18 h 30
DESCRIPTION:\nCe webinaire est reporté au 19 mars 2024 de 18 h 30 à 19 h 30Pour vous y inscrire...
URL:https://association.centralesupelec-alumni.com/fr/event/-manager-en-fortes-turbulences-une-opportunite-de-re-prendre-sa-vie-en-main-reporte-au-19-01-24-a-18-h-30/2024/01/30/7647
BEGIN:VALARM
TRIGGER:-P0DT1H0M0S
ACTION:DISPLAY
END:VALARM
END:VEVENT
END:VCALENDAR