BEGIN:VCALENDAR
VERSION:2.0
PRODID:-//hacksw/handcal//NONSGML v1.0//EN
BEGIN:VEVENT
DTSTART:20240514T163000Z
DTEND:20240514T193000Z
LOCATION:L'Ecrevis \n36, Rue de l'Aérodrome  \n74960 MEYTHET
ORGANIZER;CN=Philippe Chinkirch:MAILTO:philippe.chinkirch@centraliens.net
SUMMARY:Fresque de l'eau en Haute-Savoie
DESCRIPTION:La Fresque de l'Eau est un atelier d'intelligence collective, ludique et scientifique qui s'appuie sur 57 cartes établies à partir de sources fiables et vérifiées. L'objectif est que les participants ...
URL:https://association.centralesupelec-alumni.com/fr/event/fresque-de-l-eau-en-haute-savoie/2024/05/14/7645
BEGIN:VALARM
TRIGGER:-P0DT1H0M0S
ACTION:DISPLAY
END:VALARM
END:VEVENT
END:VCALENDAR