BEGIN:VCALENDAR
VERSION:2.0
PRODID:-//hacksw/handcal//NONSGML v1.0//EN
BEGIN:VEVENT
DTSTART:20240321T180000Z
DTEND:20240321T200000Z
LOCATION:Grenoble École de Management \n12, Rue Pierre Semard \n38000 GRENOBLE
ORGANIZER;CN=Philippe Chinkirch:MAILTO:philippe.chinkirch@centraliens.net
SUMMARY:Table ronde : réussir le renouveau industriel
DESCRIPTION:Comment réussir le renouveau industriel de nos territoires, pour une industrie locale, verte et humaine ? \nLe Covid a rappelé que nos chaînes d’approvisionnement se doivent d’être résilientes, et a...
URL:https://association.centralesupelec-alumni.com/fr/event/table-ronde-reussir-le-renouveau-industriel/2024/03/21/7644
BEGIN:VALARM
TRIGGER:-P0DT1H0M0S
ACTION:DISPLAY
END:VALARM
END:VEVENT
END:VCALENDAR