BEGIN:VCALENDAR
VERSION:2.0
PRODID:-//hacksw/handcal//NONSGML v1.0//EN
BEGIN:VEVENT
DTSTART:20240323T123000Z
DTEND:20240323T225500Z
LOCATION:CentraleSupélec - Bâtiment Eiffel - Université Paris-Saclay \n8, Rue Joliot Curie \n91190 GIF-SUR-YVETTE
ORGANIZER;CN=CentraleSupélec Alumni:MAILTO:csa-alumni@centralesupelec-alumni.com
SUMMARY:Quinquennales (promotions se terminant en 4 et en 9)
DESCRIPTION:Chère Camarade, Cher Camarade,\nNous nous réjouissons de te voir samedi 23 mars à l'occasion des Quinquennales.\nMerci de lire attentivement les instructions ci-dessous.\nACCES \n- Tu trouveras un...
URL:https://association.centralesupelec-alumni.com/fr/event/quinquennales-promotions-se-terminant-en-4-et-en-9/2024/03/23/7642
BEGIN:VALARM
TRIGGER:-P0DT1H0M0S
ACTION:DISPLAY
END:VALARM
END:VEVENT
END:VCALENDAR