BEGIN:VCALENDAR
VERSION:2.0
PRODID:-//hacksw/handcal//NONSGML v1.0//EN
BEGIN:VEVENT
DTSTART:20240124T110000Z
DTEND:20240124T140000Z
LOCATION:Maison des Centraliens
ORGANIZER;CN=Pascal Morand - Marine EauDouce-EauSalée (CSA):MAILTO:pascalmorand@hotmail.fr
SUMMARY:Protection du littoral et préservation des milieux marins : Les Abeilles International, Pronoe et Fin'X s'engagent
DESCRIPTION:Mercredi 24 janvier Accueil à partir de 11h45Début de la conférence à 12h15Déjeuner à partir de 14h00 En partenariat avec le Groupe Professionnel ENTREPRENEURS CentraleSupélec\nMaison...
URL:https://association.centralesupelec-alumni.com/fr/group/marine-eaudouce-eausalee-csa/560/calendar/protection-du-littoral-et-preservation-des-milieux-marins-les-abeilles-international-pronoe-et-fin-x-s-engagent/2024/01/24/7641
BEGIN:VALARM
TRIGGER:-P0DT1H0M0S
ACTION:DISPLAY
END:VALARM
END:VEVENT
END:VCALENDAR