BEGIN:VCALENDAR
VERSION:2.0
PRODID:-//hacksw/handcal//NONSGML v1.0//EN
BEGIN:VEVENT
DTSTART:20240117T173000Z
DTEND:20240117T190000Z
LOCATION:
ORGANIZER;CN=CSA Carrières:MAILTO:carrieres@centraliens.net
SUMMARY:Webinaire : Travailler son pitch de présentation
DESCRIPTION:\n                                                                                                                                                                                                      ...
URL:https://association.centralesupelec-alumni.com/fr/event/webinaire-travailler-son-pitch-de-presentation/2024/01/17/7636
BEGIN:VALARM
TRIGGER:-P0DT1H0M0S
ACTION:DISPLAY
END:VALARM
END:VEVENT
END:VCALENDAR