BEGIN:VCALENDAR
VERSION:2.0
PRODID:-//hacksw/handcal//NONSGML v1.0//EN
BEGIN:VEVENT
DTSTART:20240116T120000Z
DTEND:20240116T130000Z
LOCATION:
ORGANIZER;CN=Patrick Coppin:MAILTO:patrick.coppin@gmail.com
SUMMARY:Utiliser la plateforme LIFELONG LEARNING                                                                                                                                                      formation continue en ligne
DESCRIPTION:En collaboration avec  ARTS et METIERS ALUMNILIFELONG LEARNING\nDécouvre la plateforme de formation en ligne\n+50 000 ressources en accès illimité\nMardi 16 janvier 2024\nDe 13h à 14h\n Deviens acteur...
URL:https://association.centralesupelec-alumni.com/fr/event/utiliser-la-plateforme-lifelong-learning-formation-continue-en-ligne/2024/01/16/7634
BEGIN:VALARM
TRIGGER:-P0DT1H0M0S
ACTION:DISPLAY
END:VALARM
END:VEVENT
END:VCALENDAR