BEGIN:VCALENDAR
VERSION:2.0
PRODID:-//hacksw/handcal//NONSGML v1.0//EN
BEGIN:VEVENT
DTSTART:20240118T180000Z
DTEND:20240118T220000Z
LOCATION:Maison CentraleSupélec Alumni \n8, Rue Jean Goujon \n75008 PARIS
ORGANIZER;CN=CentraleSupélec Alumni:MAILTO:csa-alumni@centralesupelec-alumni.com
SUMMARY:Soirée des voeux CentraleSupélec Alumni
DESCRIPTION:\nSoirée des vœux 2024\nC’est avec grand plaisir que nous t’invitons à notre soirée exceptionnelle du Nouvel An le Jeudi 18 janvier 2024 à partir de 19h.\nCe qui t’attend…Remise des prix Félix...
URL:https://association.centralesupelec-alumni.com/fr/event/soiree-des-voeux-centralesupelec-alumni/2024/01/18/7629
BEGIN:VALARM
TRIGGER:-P0DT1H0M0S
ACTION:DISPLAY
END:VALARM
END:VEVENT
END:VCALENDAR