BEGIN:VCALENDAR
VERSION:2.0
PRODID:-//hacksw/handcal//NONSGML v1.0//EN
BEGIN:VEVENT
DTSTART:20240125T173000Z
DTEND:20240125T203000Z
LOCATION:Maison CentraleSupélec \n8, Rue Jean Goujon \n75008 PARIS
ORGANIZER;CN=Régis Langlois - CSA Ile de France:MAILTO:regis.langlois.1975@asso-supelec.org
SUMMARY:Jeudi 25 janvier 2024 : Conférence sur l'historique du développement du WEB et de l'INTERNET au CERN
DESCRIPTION:Pour les camarades participant à distance et inscrits  :code d'accès :   https://vimeo.com/event/3996757/9fdb5fa06a\nChère Camarade, Cher Camarade,Nous te proposons, le vendredi 25 janvier 2024, à la ...
URL:https://association.centralesupelec-alumni.com/fr/group/csa-ile-de-france/587/calendar/jeudi-25-janvier-2024-conference-sur-l-historique-du-developpement-du-web-et-de-l-internet-au-cern/2024/01/25/7628
BEGIN:VALARM
TRIGGER:-P0DT1H0M0S
ACTION:DISPLAY
END:VALARM
END:VEVENT
END:VCALENDAR