BEGIN:VCALENDAR
VERSION:2.0
PRODID:-//hacksw/handcal//NONSGML v1.0//EN
BEGIN:VEVENT
DTSTART:20240109T130000Z
DTEND:20240109T170000Z
LOCATION:Hotel de Rennes Métropole \n4, Avenue Henri Fréville \n35200 RENNES
ORGANIZER;CN=Michel Ratero - Bretagne (CSA):MAILTO:ratero@orange.fr
SUMMARY:Conférence DAB + du 9 janvier 2024
DESCRIPTION:
URL:https://association.centralesupelec-alumni.com/fr/group/bretagne-csa/37/calendar/conference-dab-du-9-janvier-2024/2024/01/09/7626
BEGIN:VALARM
TRIGGER:-P0DT1H0M0S
ACTION:DISPLAY
END:VALARM
END:VEVENT
END:VCALENDAR