BEGIN:VCALENDAR
VERSION:2.0
PRODID:-//hacksw/handcal//NONSGML v1.0//EN
BEGIN:VEVENT
DTSTART:20240125T153000Z
DTEND:20240125T183000Z
LOCATION:Ministère \n20, Avenue de Ségur \n75007 PARIS
ORGANIZER;CN=Gabriela Belaid - CentraleSupelec Au Féminin (CSA):MAILTO:gabriela.belaid@centraliens.net
SUMMARY::rocket: 25 janvier 2024, 1ère Journée Nationale officielle Contre le Sexisme:rocket:
DESCRIPTION:Inscription obligatoire via https://ensemblecontrelesexisme.org/\nLe Collectif Ensemble contre le sexisme dont CentraleSupélec au Féminin est membre, est fier de vous présenter un événement...
URL:https://association.centralesupelec-alumni.com/fr/group/centralesupelec-au-feminin-csa/73/calendar/-rocket-25-janvier-2024-1ere-journee-nationale-officielle-contre-le-sexisme-rocket/2024/01/25/7622
BEGIN:VALARM
TRIGGER:-P0DT1H0M0S
ACTION:DISPLAY
END:VALARM
END:VEVENT
END:VCALENDAR