BEGIN:VCALENDAR
VERSION:2.0
PRODID:-//hacksw/handcal//NONSGML v1.0//EN
BEGIN:VEVENT
DTSTART:20240118T123000Z
DTEND:20240118T200000Z
LOCATION:Bâtiment Bouygues \n3, Rue Joliot Curie \n91190 GIF-SUR-YVETTE
ORGANIZER;CN=Irina Jaubert - Économie Sociale & Solidaire (CSA):MAILTO:irina.jaubert@mailo.com
SUMMARY:6ème édition Forum Ingénieur.e.s Responsables: contactez l’équipe pour vous inscrire!
DESCRIPTION:L’équipe de 2ème année de CentraleSupélec s’est reconstituée une nouvelle fois pour l’organisation de la 6ème édition du Forum Ingénieur Responsables "Donner un sens à son métier", le jeudi 18 janvier...
URL:https://association.centralesupelec-alumni.com/fr/group/economie-sociale-solidaire-csa/69/calendar/6eme-edition-forum-ingenieur-e-s-responsables-contactez-l-equipe-pour-vous-inscrire/2024/01/18/7620
BEGIN:VALARM
TRIGGER:-P0DT1H0M0S
ACTION:DISPLAY
END:VALARM
END:VEVENT
END:VCALENDAR