BEGIN:VCALENDAR
VERSION:2.0
PRODID:-//hacksw/handcal//NONSGML v1.0//EN
BEGIN:VEVENT
DTSTART:20240126T080000Z
DTEND:20240126T110000Z
LOCATION:https://docs.google.com/forms/d/e/1FAIpQLScf3qrnNXxx60ubGgrUWmXZ-ogYSbog2z1Inu0c5KaOvCeMRg/viewform?usp=pp_url
ORGANIZER;CN=Gabriela Belaid - CentraleSupelec Au Féminin (CSA):MAILTO:gabriela.belaid@centraliens.net
SUMMARY::megaphone: Appel à 700 mentores  26 janvier 2024 :megaphone: On a besoin de vous lors d’1/2  journée de sensibilisation aux STEM en Visio  !
DESCRIPTION:\nLe collectif ELLESTIMES soutenu par l’association L-ImPact , CentraleSupelec au Féminin,  Elles bougent, ASS FEMMES ET MATHEMATIQUES et la Fondation Blaise Pascal, lance une opération de grande...
URL:https://association.centralesupelec-alumni.com/fr/group/centralesupelec-au-feminin-csa/73/calendar/-megaphone-appel-a-700-mentores-26-janvier-2024-megaphone-on-a-besoin-de-vous-lors-d-1-2-journee-de-sensibilisation-aux-stem-en-visio/2024/01/26/7607
BEGIN:VALARM
TRIGGER:-P0DT1H0M0S
ACTION:DISPLAY
END:VALARM
END:VEVENT
END:VCALENDAR