BEGIN:VCALENDAR
VERSION:2.0
PRODID:-//hacksw/handcal//NONSGML v1.0//EN
BEGIN:VEVENT
DTSTART:20240228T230000Z
DTEND:20240301T220000Z
LOCATION:Casablanca
ORGANIZER;CN=Laurent Labaeye - Immobilier (CSA):MAILTO:llabaeye@nexity.fr
SUMMARY:Voyage annuel 2024 du Club des Clubs de l'Immobilier
DESCRIPTION:Le voyage annuel 2024 du Club des Clubs de l'Immobilier se tiendra sur 2 jours, les 29 février et 1° mars, au Maroc à Casablanca.Vous trouverez les informations sur ce voyage dans le fichier...
URL:https://association.centralesupelec-alumni.com/fr/group/immobilier-csa/327/calendar/voyage-annuel-2024-du-club-des-clubs-de-l-immobilier/2024/02/29/7600
BEGIN:VALARM
TRIGGER:-P0DT1H0M0S
ACTION:DISPLAY
END:VALARM
END:VEVENT
END:VCALENDAR