BEGIN:VCALENDAR
VERSION:2.0
PRODID:-//hacksw/handcal//NONSGML v1.0//EN
BEGIN:VEVENT
DTSTART:20240131T190000Z
DTEND:20240131T230000Z
LOCATION:Cavalry and Guards Club \n127, Piccadilly \nW1J 7PX LONDON
ORGANIZER;CN=Brice Benoliel - Grande-Bretagne (CSA):MAILTO:brice.benoliel@centraliens.net
SUMMARY:Dîner de Gala de CentraleSupélec au Cavalry and Guards Club à Londres
DESCRIPTION:\nUK Friends of CentraleSupelec a le plaisir de vous convier à un évènement de prestige pour le lancement de la nouvelle campagne de levée de fonds " Demain est IngénieurS" qui vise à faire de...
URL:https://association.centralesupelec-alumni.com/fr/group/grande-bretagne-csa/265/calendar/diner-de-gala-de-centralesupelec-au-cavalry-and-guards-club-a-londres/2024/01/31/7588
BEGIN:VALARM
TRIGGER:-P0DT1H0M0S
ACTION:DISPLAY
END:VALARM
END:VEVENT
END:VCALENDAR