BEGIN:VCALENDAR
VERSION:2.0
PRODID:-//hacksw/handcal//NONSGML v1.0//EN
BEGIN:VEVENT
DTSTART:20240111T170000Z
DTEND:20240111T220000Z
LOCATION:Théâtre du Ranelagh \n5, Rue des Vignes \n75016 PARIS
ORGANIZER;CN=Guy Delcroix - Promotion ECP 1973:MAILTO:guy.delcroix@wanadoo.fr
SUMMARY:Soirée culturelle du 11 janvier
DESCRIPTION:  Chers amis, chères amies,Voici venir l'hiver et avec lui l'époque de notre soirée culturelle!Nous vous proposons de nous retrouver le 11 janvier prochain au théâtre du Ranelagh, 5 rue des vignes...
URL:https://association.centralesupelec-alumni.com/fr/group/promotion-ecp-1973/159/calendar/soiree-culturelle-du-11-janvier/2024/01/11/7578
BEGIN:VALARM
TRIGGER:-P0DT1H0M0S
ACTION:DISPLAY
END:VALARM
END:VEVENT
END:VCALENDAR