BEGIN:VCALENDAR
VERSION:2.0
PRODID:-//hacksw/handcal//NONSGML v1.0//EN
BEGIN:VEVENT
DTSTART:20240126T183000Z
DTEND:20240126T203000Z
LOCATION:Le Complexe café-théâtre de Lyon \n7, Rue des Capucins \n69001 LYON
ORGANIZER;CN=David Tavoularis - Lyon (CSA):MAILTO:david.tavoularis@mycom-osi.com
SUMMARY:Dîner-spectacle au Complexe du Rire avec Karim Duval dans "Entropie"
DESCRIPTION:Chère camarade, cher camarade,Notre camarade Yves Dorion (ECP69) nous propose le vendredi 26 janvier à 19h30 un dîner-spectacle au "Complexe du Rire" (Lyon 1er) pour (re)découvrir Karim Duval...
URL:https://association.centralesupelec-alumni.com/fr/group/lyon-csa/299/calendar/diner-spectacle-au-complexe-du-rire-avec-karim-duval-dans-entropie/2024/01/26/7565
BEGIN:VALARM
TRIGGER:-P0DT1H0M0S
ACTION:DISPLAY
END:VALARM
END:VEVENT
END:VCALENDAR