BEGIN:VCALENDAR
VERSION:2.0
PRODID:-//hacksw/handcal//NONSGML v1.0//EN
BEGIN:VEVENT
DTSTART:20240105T120000Z
DTEND:20240105T130000Z
LOCATION:https://us02web.zoom.us/j/82221776135
ORGANIZER;CN=CentraleSupélec Alumni:MAILTO:csa-alumni@centralesupelec-alumni.com
SUMMARY:Webinaire - Romain Soubeyran, directeur général de CentraleSupélec
DESCRIPTION:Code d'accès du webinar Code secret : 559071...
URL:https://association.centralesupelec-alumni.com/fr/event/webinaire-romain-soubeyran-directeur-general-de-centralesupelec/2024/01/05/7558
BEGIN:VALARM
TRIGGER:-P0DT1H0M0S
ACTION:DISPLAY
END:VALARM
END:VEVENT
END:VCALENDAR