BEGIN:VCALENDAR
VERSION:2.0
PRODID:-//hacksw/handcal//NONSGML v1.0//EN
BEGIN:VEVENT
DTSTART:20231107T173000Z
DTEND:20231107T210000Z
LOCATION:Association HEC Alumni \n9, Avenue Franklin Delano Roosevelt \n75008 PARIS
ORGANIZER;CN=Jean-Christophe STRICH - Repreneurs (CSA):MAILTO:jc.strich@free.fr
SUMMARY:Le Capital Humain, facteur clé de réussite de votre reprise
DESCRIPTION:Chers Camarades Repreneurs,CentraleSupelec Repreneurs membre de G2E vous fait part de la tenue de la prochaine réunion mensuelle de HEC Repreneurs consacrée au sujet suivant : Le Capital Humain,...
URL:https://association.centralesupelec-alumni.com/fr/group/repreneurs-csa/331/calendar/le-capital-humain-facteur-cle-de-reussite-de-votre-reprise/2023/11/07/7499
BEGIN:VALARM
TRIGGER:-P0DT1H0M0S
ACTION:DISPLAY
END:VALARM
END:VEVENT
END:VCALENDAR