BEGIN:VCALENDAR
VERSION:2.0
PRODID:-//hacksw/handcal//NONSGML v1.0//EN
BEGIN:VEVENT
DTSTART:20231108T180000Z
DTEND:20231108T194500Z
LOCATION:la Gaité lyrique  \n3bis, Rue Papin \n75003 PARIS
ORGANIZER;CN=Gabriela Belaid - CentraleSupelec Au Féminin (CSA):MAILTO:gabriela.belaid@centraliens.net
SUMMARY::moneybag: Egalité de salaire femme-homme : pourquoi attendre 2082 ? conférence avec Christiane TAUBIRA
DESCRIPTION:💰 Egalité de salaire femme-homme : pourquoi attendre 2082 ?\nL'association 2082 partenaire de CentraleSupélec au Féminin a le plaisir de vous convier à un échange avec :\nMadame Christiane...
URL:https://association.centralesupelec-alumni.com/fr/group/centralesupelec-au-feminin-csa/73/calendar/-moneybag-egalite-de-salaire-femme-homme-pourquoi-attendre-2082-conference-avec-christiane-taubira/2023/11/08/7497
BEGIN:VALARM
TRIGGER:-P0DT1H0M0S
ACTION:DISPLAY
END:VALARM
END:VEVENT
END:VCALENDAR