BEGIN:VCALENDAR
VERSION:2.0
PRODID:-//hacksw/handcal//NONSGML v1.0//EN
BEGIN:VEVENT
DTSTART:20231110T113000Z
DTEND:20231110T130000Z
LOCATION:La Brasserie Bleue  \nRond-Point du Racker, VANNES \n56000 VANNES
ORGANIZER;CN=Michel Ratero - Bretagne (CSA):MAILTO:ratero@orange.fr
SUMMARY:Déjeuner mensuel Bretagne Sud
DESCRIPTION:Le déjeuner mensuel CSA Bretagne Sud de novembre aura lieu - Vendredi 10 novembre,  à 12h30,au restaurant La Brasserie Bleue \nRond-Point du Racker - Vannes  (47°40' et -2°45'), Pour la réservation,...
URL:https://association.centralesupelec-alumni.com/fr/group/bretagne-csa/37/calendar/dejeuner-mensuel-bretagne-sud/2023/11/10/7482
BEGIN:VALARM
TRIGGER:-P0DT1H0M0S
ACTION:DISPLAY
END:VALARM
END:VEVENT
END:VCALENDAR