BEGIN:VCALENDAR
VERSION:2.0
PRODID:-//hacksw/handcal//NONSGML v1.0//EN
BEGIN:VEVENT
DTSTART:20240118T113000Z
DTEND:20240118T130000Z
LOCATION:
ORGANIZER;CN=CSA Carrières:MAILTO:carrieres@centraliens.net
SUMMARY:Trouve l’audace d’oser
DESCRIPTION:\nSe jeter à l’eau, un nouveau projet, changer de voie, entreprendre, réussir ...\nEt si oser était bien plus facile, plus naturel, plus accessible que tu ne le penses ?\nViens découvrir les leviers...
URL:https://association.centralesupelec-alumni.com/fr/event/trouve-l-audace-d-oser/2024/01/18/7476
BEGIN:VALARM
TRIGGER:-P0DT1H0M0S
ACTION:DISPLAY
END:VALARM
END:VEVENT
END:VCALENDAR