BEGIN:VCALENDAR
VERSION:2.0
PRODID:-//hacksw/handcal//NONSGML v1.0//EN
BEGIN:VEVENT
DTSTART:20231201T173000Z
DTEND:20231201T210000Z
LOCATION:Maison CentraleSupélec Alumni \n8 RUE JEAN GOUJON \n75008 PARIS
ORGANIZER;CN=CentraleSupélec Alumni:MAILTO:csa-alumni@centralesupelec-alumni.com
SUMMARY:Soirée 2023 - Année Eiffel
DESCRIPTION:\nCentraleSupélec Alumni a le plaisir de vous convier à sa soirée en hommage à Gustave Eiffel (ECP 1855)\nNous vous donnons rendez-vous à la Maison CentraleSupélec Alumni, à partir de 18h30, pour...
URL:https://association.centralesupelec-alumni.com/fr/event/soiree-2023-annee-eiffel/2023/12/01/7474
BEGIN:VALARM
TRIGGER:-P0DT1H0M0S
ACTION:DISPLAY
END:VALARM
END:VEVENT
END:VCALENDAR