BEGIN:VCALENDAR
VERSION:2.0
PRODID:-//hacksw/handcal//NONSGML v1.0//EN
BEGIN:VEVENT
DTSTART:20231121T173000Z
DTEND:20231121T203000Z
LOCATION:Maison des Champs Elysées \n8, Rue Jean Goujon \n75008 PARIS
ORGANIZER;CN=CentraleSupélec Alumni:MAILTO:csa-alumni@centralesupelec-alumni.com
SUMMARY:Afterwork Spécial "Santé" à la Maison des Champs Elysées
DESCRIPTION:\nComme tous les 3es mardis de chaque mois, rejoins-nous pour notre afterwork !Cette soirée est ouverte à tous les diplômés de la CACCS (Confédération des Associations Centraliennes et...
URL:https://association.centralesupelec-alumni.com/fr/event/afterwork-special-sante-a-la-maison-des-champs-elysees/2023/11/21/7467
BEGIN:VALARM
TRIGGER:-P0DT1H0M0S
ACTION:DISPLAY
END:VALARM
END:VEVENT
END:VCALENDAR