BEGIN:VCALENDAR
VERSION:2.0
PRODID:-//hacksw/handcal//NONSGML v1.0//EN
BEGIN:VEVENT
DTSTART:20231128T180000Z
DTEND:20231128T210000Z
LOCATION:Maison CentraleSupélec \n8, Rue Jean Goujon \n75008 PARIS
ORGANIZER;CN=Francis d'Auriac - Énergie Durable (CSA):MAILTO:energie.conseil.plus@gmail.com
SUMMARY:Métaux critiques :  quelles stratégies pour éviter l’impasse ?
DESCRIPTION:         Chers participants Vous avez été intéressés, voire passionnés par notre première confèrence sur les métaux critiques du 28 juin. Aussi  à votre demande, le Goupe Ingénieur et Développement...
URL:https://association.centralesupelec-alumni.com/fr/group/energie-durable-csa/323/calendar/metaux-critiques-quelles-strategies-pour-eviter-l-impasse/2023/11/28/7450
BEGIN:VALARM
TRIGGER:-P0DT1H0M0S
ACTION:DISPLAY
END:VALARM
END:VEVENT
END:VCALENDAR