BEGIN:VCALENDAR
VERSION:2.0
PRODID:-//hacksw/handcal//NONSGML v1.0//EN
BEGIN:VEVENT
DTSTART:20231107T110000Z
DTEND:20231107T140000Z
LOCATION:Restaurant Les Noces de Jeannette \n14, Rue Favart \n75002 PARIS
ORGANIZER;CN=Didier Debonneuil - Promotion ECP 1970:MAILTO:debonneuil@gmail.com
SUMMARY:Réunion de la  promotion ECP 1970
DESCRIPTION:Chers camarades,Nous vous proposons de nous retrouver cette année encore.Nous avons essayé d'organiser notre réunion à l'ancienne Ecole rue Montgolfier, mais on nous a présenté un coût...
URL:https://association.centralesupelec-alumni.com/fr/group/promotion-ecp-1970/165/calendar/reunion-de-la-promotion-ecp-1970/2023/11/07/7447
BEGIN:VALARM
TRIGGER:-P0DT1H0M0S
ACTION:DISPLAY
END:VALARM
END:VEVENT
END:VCALENDAR