BEGIN:VCALENDAR
VERSION:2.0
PRODID:-//hacksw/handcal//NONSGML v1.0//EN
BEGIN:VEVENT
DTSTART:20231107T181500Z
DTEND:20231107T203000Z
LOCATION:Maison des Centraliens \n8, Rue Jean Goujon \n75008 PARIS
ORGANIZER;CN=Clément Thébault - CSA Oenologie:MAILTO:thebault.cl@gmail.com
SUMMARY:Dégustation St Emilion - Château Angélus
DESCRIPTION:Rendez-vous le Mardi 7 Novembre à 19h15 à la maison des Centraliens !Pour comprendre les subtilités des meilleurs crus du terroir de St Emilion, nous sommes heureux de vous convier pour une...
URL:https://association.centralesupelec-alumni.com/fr/group/csa-oenologie/597/calendar/degustation-st-emilion-chateau-angelus/2023/11/07/7440
BEGIN:VALARM
TRIGGER:-P0DT1H0M0S
ACTION:DISPLAY
END:VALARM
END:VEVENT
END:VCALENDAR