BEGIN:VCALENDAR
VERSION:2.0
PRODID:-//hacksw/handcal//NONSGML v1.0//EN
BEGIN:VEVENT
DTSTART:20231104T090000Z
DTEND:20231104T150000Z
LOCATION:Luma en Arles \n24, Route de la Crau \n13200 ARLES
ORGANIZER;CN=Alain ARDITI - Occitanie-Méditerranée (CSA):MAILTO:alain@arditi.fr
SUMMARY:Visite du Luma en Arles
DESCRIPTION:Chères camarades, chers camarades, notre sortie d'Automne se déroulera en Arles pour découvrir un site exceptionnel installé sur une ancienne friche industrielle : le Luma...
URL:https://association.centralesupelec-alumni.com/fr/group/occitanie-me-diterranee-csa/305/calendar/visite-du-luma-en-arles/2023/11/04/7437
BEGIN:VALARM
TRIGGER:-P0DT1H0M0S
ACTION:DISPLAY
END:VALARM
END:VEVENT
END:VCALENDAR