BEGIN:VCALENDAR
VERSION:2.0
PRODID:-//hacksw/handcal//NONSGML v1.0//EN
BEGIN:VEVENT
DTSTART:20231107T173000Z
DTEND:20231107T190000Z
LOCATION:Maison des Centraliens \n8, Rue Jean Goujon, 5e étage \n75008 PARIS
ORGANIZER;CN=CSA Carrières:MAILTO:carrieres@centraliens.net
SUMMARY:Atelier : Bien négocier un départ à l’amiable (subi ou souhaité)  EN PRESENTIEL UNIQUEMENT
DESCRIPTION:\nCET ATELIER SE DEROULERA EN PRESENTIEL UNIQUEMENT\nLes inscriptions ne se font pas en ligne.\nPour vous inscrire, veuillez contacter le service Carrières :...
URL:https://association.centralesupelec-alumni.com/fr/event/atelier-bien-negocier-un-depart-a-l-amiable-subi-ou-souhaite-en-presentiel-uniquement/2023/11/07/7427
BEGIN:VALARM
TRIGGER:-P0DT1H0M0S
ACTION:DISPLAY
END:VALARM
END:VEVENT
END:VCALENDAR