BEGIN:VCALENDAR
VERSION:2.0
PRODID:-//hacksw/handcal//NONSGML v1.0//EN
BEGIN:VEVENT
DTSTART:20231009T160000Z
DTEND:20231009T180000Z
LOCATION:Hôtel des Arts et Métiers - Salle ROCHEFOUCAULD \n9b, Avenue d'Iéna \n75116 PARIS
ORGANIZER;CN=Jean-Christophe STRICH - Repreneurs (CSA):MAILTO:jc.strich@free.fr
SUMMARY:CentraleSupelec Repreneurs membre de G2E vous convie à la 236ème Réunion CLENAM / C.R.A - Lundi 9 octobre 2023 de 18h00 à 20h00
DESCRIPTION:CentraleSupelec Repreneurs membre de G2Evous propose de participer à la \n236ème  Réunion d'information CLENAM / C.R.A     Lundi 9 octobre 2023 \nde 18h à 20h Les intervenants :- Les bonnes questions ...
URL:https://association.centralesupelec-alumni.com/fr/group/repreneurs-csa/331/calendar/centralesupelec-repreneurs-membre-de-g2e-vous-convie-a-la-236eme-reunion-clenam-c-r-a-lundi-9-octobre-2023-de-18h00-a-20h00/2023/10/09/7426
BEGIN:VALARM
TRIGGER:-P0DT1H0M0S
ACTION:DISPLAY
END:VALARM
END:VEVENT
END:VCALENDAR