BEGIN:VCALENDAR
VERSION:2.0
PRODID:-//hacksw/handcal//NONSGML v1.0//EN
BEGIN:VEVENT
DTSTART:20231019T160000Z
DTEND:20231019T183000Z
LOCATION:Maison des Centraliens - Salle Saclay 5ème étage \n8, Rue Jean Goujon \n75008 PARIS
ORGANIZER;CN=Jean-Christophe STRICH - Repreneurs (CSA):MAILTO:jc.strich@free.fr
SUMMARY:La reprise d'une PME via un search fund
DESCRIPTION:Notre prochain débat, en présentiel ou en distanciel, explorera le concept innovant des Search funds. Alors qu'il est largement développé aux USA depuis plusieurs décennies, l'écosystème du search...
URL:https://association.centralesupelec-alumni.com/fr/group/repreneurs-csa/331/calendar/la-reprise-d-une-pme-via-un-search-fund/2023/10/19/7425
BEGIN:VALARM
TRIGGER:-P0DT1H0M0S
ACTION:DISPLAY
END:VALARM
END:VEVENT
END:VCALENDAR