BEGIN:VCALENDAR
VERSION:2.0
PRODID:-//hacksw/handcal//NONSGML v1.0//EN
BEGIN:VEVENT
DTSTART:20240120T091500Z
DTEND:20240120T110000Z
LOCATION:Banque de France \n1, Rue de la Vrillière \n75001 PARIS
ORGANIZER;CN=Jacqueline Pasdeloup - CSA Ile de France:MAILTO:jacqueline@asso-supelec.org
SUMMARY:Visite guidée de la Galerie dorée de la Banque de France
DESCRIPTION:\nCrédits photographiques : Banque de France – Tous droits réservés \nSiège de la Banque depuis 1808, l’hôtel de la Vrilliere, connu au XVIIIe siècle comme l’hôtel de Toulouse, abrite une des plus...
URL:https://association.centralesupelec-alumni.com/fr/group/csa-ile-de-france/587/calendar/visite-guidee-de-la-galerie-doree-de-la-banque-de-france/2024/01/20/7414
BEGIN:VALARM
TRIGGER:-P0DT1H0M0S
ACTION:DISPLAY
END:VALARM
END:VEVENT
END:VCALENDAR